BEGIN:VCALENDAR
VERSION:2.0
PRODID:-//ANCA Pasadena Chapter - ECPv6.8.1//NONSGML v1.0//EN
CALSCALE:GREGORIAN
METHOD:PUBLISH
X-WR-CALNAME:ANCA Pasadena Chapter
X-ORIGINAL-URL:https://a.cnvrt.app
X-WR-CALDESC:Events for ANCA Pasadena Chapter
REFRESH-INTERVAL;VALUE=DURATION:PT1H
X-Robots-Tag:noindex
X-PUBLISHED-TTL:PT1H
BEGIN:VTIMEZONE
TZID:UTC
BEGIN:STANDARD
TZOFFSETFROM:+0000
TZOFFSETTO:+0000
TZNAME:UTC
DTSTART:20250101T000000
END:STANDARD
END:VTIMEZONE
BEGIN:VEVENT
DTSTART;TZID=UTC:20250127T183000
DTEND;TZID=UTC:20250127T210000
DTSTAMP:20260424T014400
CREATED:20250123T075217Z
LAST-MODIFIED:20260418T080208Z
UID:404-1738002600-1738011600@a.cnvrt.app
SUMMARY:Wildfire Recovery Workshop
DESCRIPTION:Dear community members\, \nOn January 27th.\, 2025\, the ANCA – Pasadena Chapter will be hosting a wildfire workshop at H&H Jivalagian Youth Center located at 2242 E. Foothill Blvd.\, Pasadena\, CA 91107. The workshop will take place at 6:30PM. \nRaffi Kassabian of Bezdik Kassab Law Group will be there to give you expert support and legal options. Armen Ghazarian of Allied Public Adjuster will also be present to give you insight on how to go about handling your insurance claims. We very much encourage you to attend this important workshop. \nStay informed\, stay vigilant!\nOur Community\, Our Priority! \n
URL:https://a.cnvrt.app/event/wildfire-recovery-workshop/
ATTACH;FMTTYPE=image/jpeg:https://a.cnvrt.app/wp-content/uploads/2026/04/484803126_647402801580042_3175123765865849069_n.jpg
END:VEVENT
END:VCALENDAR